BEGIN:VCALENDAR
VERSION:2.0
PRODID:-//Tithebarn Residents Association - ECPv6.15.20//NONSGML v1.0//EN
CALSCALE:GREGORIAN
METHOD:PUBLISH
X-WR-CALNAME:Tithebarn Residents Association
X-ORIGINAL-URL:https://tithebarn.uk
X-WR-CALDESC:Events for Tithebarn Residents Association
REFRESH-INTERVAL;VALUE=DURATION:PT1H
X-Robots-Tag:noindex
X-PUBLISHED-TTL:PT1H
BEGIN:VTIMEZONE
TZID:Europe/London
BEGIN:DAYLIGHT
TZOFFSETFROM:+0000
TZOFFSETTO:+0100
TZNAME:BST
DTSTART:20240331T010000
END:DAYLIGHT
BEGIN:STANDARD
TZOFFSETFROM:+0100
TZOFFSETTO:+0000
TZNAME:GMT
DTSTART:20241027T010000
END:STANDARD
BEGIN:DAYLIGHT
TZOFFSETFROM:+0000
TZOFFSETTO:+0100
TZNAME:BST
DTSTART:20250330T010000
END:DAYLIGHT
BEGIN:STANDARD
TZOFFSETFROM:+0100
TZOFFSETTO:+0000
TZNAME:GMT
DTSTART:20251026T010000
END:STANDARD
BEGIN:DAYLIGHT
TZOFFSETFROM:+0000
TZOFFSETTO:+0100
TZNAME:BST
DTSTART:20260329T010000
END:DAYLIGHT
BEGIN:STANDARD
TZOFFSETFROM:+0100
TZOFFSETTO:+0000
TZNAME:GMT
DTSTART:20261025T010000
END:STANDARD
END:VTIMEZONE
BEGIN:VEVENT
DTSTART;TZID=Europe/London:20251220T180000
DTEND;TZID=Europe/London:20251220T190000
DTSTAMP:20260423T012959
CREATED:20251109T134430Z
LAST-MODIFIED:20251109T134912Z
UID:1126-1766253600-1766257200@tithebarn.uk
SUMMARY:TIthebarn - You Are Invited!
DESCRIPTION:Everyone in Tithebarn is invited to a special event to celebrate the season. We will be running a community gathering in our town square and offering residents a free tea or hot chocolate from the Strawberry Fields café. \nThere will be carol singers providing festive cheer\, and us at the Residents Association will have our gazebo up to meet and greet locals. Plus we’ll be rewarding every family that completes our Advent Calendar Trail with a chocolatey treat (more details to follow soon!) \nThe event will run on Saturday 20th December 6pm – 6:45pm. Strawberry Fields will provide tea and hot chocolate & costs will be subsidised by our Parish Council and Teign Housing – so thank you all. To claim a free drink for each resident you will need to bring a voucher that will appear in the December Broadsheet so make sure you look out for you copy. It will be hand delivered by volunteers at the start of the month. \nOur wonderful café will also be selling their usual baked goods after hours so you’ll be able to buy some yummy treats to go with your free drink. There’s seating outside so dress up warm to listen to the carols and chat with us about our plans for 2026. \nxmas2025-Social-Media-Promo-Invited
URL:https://tithebarn.uk/event/tithebarn-you-are-invited/
LOCATION:Strawberry Fields Cafe\, Gereint Way\, Tithebarn\, Exeter\, EX1 3RS\, Gereient Way\, Tithebarn\, Exeter\, Devon\, EX1 3RS\, United Kingdom
CATEGORIES:TRA Committee
ATTACH;FMTTYPE=image/jpeg:https://tithebarn.uk/wp-content/uploads/2025/11/xmas2025-Social-Media-Promo-Invited.jpg
ORGANIZER;CN="RA Committee":MAILTO:ra@tithebarn.uk
END:VEVENT
END:VCALENDAR