BEGIN:VCALENDAR
VERSION:2.0
PRODID:-//Tithebarn Residents Association - ECPv6.15.20//NONSGML v1.0//EN
CALSCALE:GREGORIAN
METHOD:PUBLISH
X-ORIGINAL-URL:https://tithebarn.uk
X-WR-CALDESC:Events for Tithebarn Residents Association
REFRESH-INTERVAL;VALUE=DURATION:PT1H
X-Robots-Tag:noindex
X-PUBLISHED-TTL:PT1H
BEGIN:VTIMEZONE
TZID:Europe/London
BEGIN:DAYLIGHT
TZOFFSETFROM:+0000
TZOFFSETTO:+0100
TZNAME:BST
DTSTART:20240331T010000
END:DAYLIGHT
BEGIN:STANDARD
TZOFFSETFROM:+0100
TZOFFSETTO:+0000
TZNAME:GMT
DTSTART:20241027T010000
END:STANDARD
BEGIN:DAYLIGHT
TZOFFSETFROM:+0000
TZOFFSETTO:+0100
TZNAME:BST
DTSTART:20250330T010000
END:DAYLIGHT
BEGIN:STANDARD
TZOFFSETFROM:+0100
TZOFFSETTO:+0000
TZNAME:GMT
DTSTART:20251026T010000
END:STANDARD
BEGIN:DAYLIGHT
TZOFFSETFROM:+0000
TZOFFSETTO:+0100
TZNAME:BST
DTSTART:20260329T010000
END:DAYLIGHT
BEGIN:STANDARD
TZOFFSETFROM:+0100
TZOFFSETTO:+0000
TZNAME:GMT
DTSTART:20261025T010000
END:STANDARD
END:VTIMEZONE
BEGIN:VEVENT
DTSTART;TZID=Europe/London:20250123T190000
DTEND;TZID=Europe/London:20250123T210000
DTSTAMP:20260423T154106
CREATED:20240830T090349Z
LAST-MODIFIED:20250127T182721Z
UID:566-1737658800-1737666000@tithebarn.uk
SUMMARY:RA Jan-25: AGM!
DESCRIPTION:Present:  James May\, Janet Stamp\, John Rowe\, Debbie Perry\, Steve Perry\, Paula Fernley\, Kagabo Hirwa\, Oliver Smith\, Matt Lehnert\, Katie Bennett\, Graham Kendall\, Nikola Hall\, Craig and Nancy Halsey\, Jayne Hill\, Korneel Verhaeghe\, Julie Fairman\, Reji Kombarakaran \nApologies: Colin Stamp\,  Anne and John Watson\,  \n  \nWelcome and Annual Report (Fran) \nThanks for attending\, \nThanks to the volunteers\, three more spaces so please express an interest \nStarted in Sept 2023 with an open invitation where we heard concerns and lots of opinions about what we should do and the way forward.   \nIt has been about building a sense of community and bringing people together to nurture voice and pride; to find out what do the people of Tithebarn think. \nWe’ve faced huge challenges including the pub closing unexpectedly and one of our meetings happening in the car park(!)\, as well as national elections. \nHowever the hotel is nearly complete and we’ve ran great events including Little library\, dog shows\, storytelling afternoon\, BioBlitz and fun days.   \n  \nCafe \nWe can also announce that the contract for the café has been signed by Lifton Strawberry Fields Farm Shop (https://strawberryfieldslifton.co.uk/) and intends to be open by Easter.  Although it is too early for them to commit to community activities they very much want to be involved when they get settled in. \n  \nSupermarket \nOur Tesco Express store was opened by Fran on 17th Jan and TRA received £500 which will be donated to the defibrillator funds for Tithebarn.   Engagements in Facebook posts topped 36000 which was considered to be down to visual content such as video and images.  Suggestion by resident that future posts use same techniques and not just TRA logo. \nPaula also informed that Tesco fund raising tokens are currently focussing on schools and young people so everyone is encouraged to use their tokens\, and potentially go in and scan the QR code to suggest other worthy charities.   \nThe safety of the steps down to Tesco on the corner of Hutchings Drive was questioned.  Paula to investigate. \n  \nParish Council Updates \nFran also introduced Julie Fairman our new community connector for the Broadclyst Parish.  Her role is to listen\, help and then contribute to improvements. \nPlenty on the To-Do list for the incoming committee including organising community building events\, ensuring the installation of the ‘Welcome to Tithebarn’ signs (and persuading DCC we actually exist!)\, requesting installation of some baby swings\, resolving ongoing issues with the former dog kennels site\, getting the allotments opened and in use.   \n  \nPotential Events \n31st Jan – BPC are running a consultation outside Tesco regarding the next play park.  Their details page is at https://broadclyst.org/news-separator/news/7-news/418-tithebarn-playpark-consultation \nYou can see the area marked LEAP on Equinox III3a on https://tithebarn.uk/of-which-developments-does-tithebarn-comprise/  Or view approximate location at: https://what3words.com/passing.villager.sparkle.  Please send thoughts to BPC using admin@broadclyst.org if can’t attend. \nThursday 8th May – VE day 80th celebrations. considered location is our town square.  It’s not a bank holiday although plenty of options for getting involved are being promoted. Potential for street party during the day or the main focus being at 9:30pm with lamp lighting\, flags and songs.  https://www.veday80.org.uk/  \nBPC will run a fun day on either 9th or 10th August\, and likely to be on the field allocated to be the School.   Intending that there is music to attract people there that can be heard during the day\, plus activities on site such as a dog show and environment activities.  \n  \nEvents Subgroup \nAs a result of potential events for the year and a willingness by residents to develop our community\, an Events subgroup will be created using the Events Planning WhatsApp group as primary communication.  https://chat.whatsapp.com/ExlrwnsQXgg7ESVI1Kstjw \n  \nWider Updates \nPaula meets with some developers and EDDC staff and can feed back on progress. \nBarratt’s Exeter office is now closed\, and Bristol office staff are eager to conclude dealings.  Tithebarn is still missing bins\, dog poo collections\, effective swales and ditches\,  \nEDDC currently doesn’t have capacity for dog poo collection due to incremental cost of additional capacity.   \nThe Sports Pavilion planning consultation is still open.   Summary information and designs\, and further links can be found at https://tithebarn.uk/sports-pavilion-consultation/ \nStreet lights along the length of Langaton Lane currently being installed and will improve safety.  Concerns about the high water level remain but residents need to be mindful of the natural spring close to the brook. \n  \nFinance \nThe Financial Summary was presented by Qian Zeng and circulated in advance. \n  \nManagement Company \nBPC continue to research and consider the proposal to be involved in the management company obligations for Tithebarn\, across all the developments.  However\, there is still no update yet from them. \n  \nBroadclyst Village Show \nThis year there will be a sustainable travel theme.   Residents from the wider parish are encouraged to attend.  Residents made a request for minibus transport to and from the event to encourage participation and demonstrate the sustainability theme in action.  \n  \nCommittee \nThe Committee were unanimously appointed.  Thanks to everyone for volunteering\, and thanks to the outgoing committee for the work they have done to get us this far.   \n  \nMotions \n“Games evening social event for all residents.” – approved \n Ideas include Games Social at Dunhelm.  Chocolate Bingo for the family around Easter.  Science Park would like to help so Events group to consider which events might work there.   \n  \n“A motion to request the Residents Association seek a formal plan of action from Broadclyst Parish\, East Devon District and Devon County Councils to ensure the successful delivery and long-term future of Tithebarn.”  – Deferred until May 2025 meeting \n  \nWide range of issues discussed and updates from various councils were provided.  EDDC will issue a strategic plan in the next few months.  Deferral agreed until after this has been shared. \n____________________________ \nAgenda: \n\nAnnual Report\nNominations and Agenda items received by 7pm on Monday 20th January 2025:\n\n\n\n\nChair: Korneel Verhaeghe\nVice Chair: none\nSecretary: Marc Coton\nTreasurer: Qian Zeng\nCommittee:  Paula Fernley\, Fran Aggleton\, Debra Perry\, Craig Halsley\, Reji Jose Kombarakaran\n\n\n\n\n\n\nAll positions are uncontested.  Therefore\, there will be a single vote to accept the proposed committee as detailed above.  The committee will the decide between themselves how to fill the remaining vacancies should they wish to.\n\n\nFinancial Statement: Attached.\nMotions by Residents for consideration:\n\n“Games evening social event for all residents.”  Proposed by John Rowe\, Seconded by Marc Coton\n\n\n\n\n\n\n“A motion to request the Residents Association seek a formal plan of action from Broadclyst Parish\, East Devon District and Devon County Councils to ensure the successful delivery and long-term future of Tithebarn.”  Motion proposed by Matthew Lehnert\, Seconded by Katie Bennett.\n\n\n\nEnd of Agenda \n___________________________ \n[Previous Event Contents for reference] \nHello\, \nAs you will know from previous emails\, our first Annual General Meeting is to be held at The Black Horse at 7pm on Thursday 23rd January.    All ten committee positions will be up for nomination and everyone who is over 16 and a resident of Tithebarn is welcome to put themselves forward.  The area is defined in our constitution and shown on the Tithebarn Village Map as the area in red.   Please use the layers menu in the top right hand corner if it is not visible.  The code of conduct also provides more details about our aims\, membership and code of conduct.  Please read this in full before being nominated. \nThe agenda for the meeting will be as follows: \n\nAnnual Report\nEnd of year statement of accounts\nElection of Committee\nVote on elements of the constitution\nResolutions put forward by members\nAOB\n\n  \n\nAll matters for the agenda need to be given in advance by Monday 20th January 2025\, including nominations for the committee positions.  To do so\, please contact the secretary marc@tithebarn.uk or on 07581 179890 via text or WhatsApp.\n\n  \n\nShould more than one nomination be received by the deadline then a simple majority vote will take place.  Voting will take place by the issue of a slip of paper to write your chosen person upon at the time of the vote so please bring a pen!  The current Secretary will count the votes and therefore exclude themselves from voting so as to remain impartial during the counts.   The votes will be counted immediately and a decision announced.\n\n  \n\nThe voting for the roles will take place in the following order:  Chair\, Vice Chair\, Secretary and Treasurer\, then up to 6 committee members.  Any resident may be nominated for any or all positions and this must be done in advance.  So for example\, if a person was willing to stand as Chair\, Vice Chair or Committee member then they would need to submit three nominations.  Should that person be appointed Chair then they would be removed from the nominations for Vice Chair and Committee member as they have already been appointed.  Should they not be successful at the role of Chair or Vice Chair then they would remain in the nominations for the Committee member.\n\n  \n\nIf the current Chair does not wish to stand for the position of Chair then they will have the casting vote in the election of the new Chair.    If they do wish to stand then that role will fall to the current Vice Chair\, and in their absence\, Secretary.  The new Chair will take over immediately and have the casting vote in the subsequent elections.\n\n  \n\nOnly one Committee member per household is allowed although nominations from several household members for multiple roles can be made.  Only the first person to be voted into a role within a household will be appointed.  All other household members will be withdrawn from subsequent votes.\n\n  \n\nOnly members present may vote and each member has one vote.  For this reason\, it would be really helpful if anyone who has not attended before could contact me with their name and address in advance so as to avoid the collection of details at the start of the meeting.\n\n  \n\nFurther communications will be sent out after the deadline of 7pm on 20th January with a list in advance of those nominated.  Should sufficient nominations not be received then I will detail the process for dissolution of the committee instead (but let’s hope not!)\n\n  \nWe have several Committee members stepping down this time so we will need new recruits if we are to continue.  On behalf of the current committee\, we would like to thank all those who have contributed in 2024 and look forward to the new team shaping the next phase of our community. \n  \nMarc\, on behalf of the Residents Association Committee. \n 
URL:https://tithebarn.uk/event/ra-jan-25-residents-association-meeting/
LOCATION:Black Horse Public House\, Devon\, ex1\, United Kingdom
CATEGORIES:TRA Committee
ORGANIZER;CN="RA Committee":MAILTO:ra@tithebarn.uk
END:VEVENT
END:VCALENDAR