BEGIN:VCALENDAR
VERSION:2.0
PRODID:-//Tithebarn Residents Association - ECPv6.15.20//NONSGML v1.0//EN
CALSCALE:GREGORIAN
METHOD:PUBLISH
X-ORIGINAL-URL:https://tithebarn.uk
X-WR-CALDESC:Events for Tithebarn Residents Association
REFRESH-INTERVAL;VALUE=DURATION:PT1H
X-Robots-Tag:noindex
X-PUBLISHED-TTL:PT1H
BEGIN:VTIMEZONE
TZID:Europe/London
BEGIN:DAYLIGHT
TZOFFSETFROM:+0000
TZOFFSETTO:+0100
TZNAME:BST
DTSTART:20230326T010000
END:DAYLIGHT
BEGIN:STANDARD
TZOFFSETFROM:+0100
TZOFFSETTO:+0000
TZNAME:GMT
DTSTART:20231029T010000
END:STANDARD
BEGIN:DAYLIGHT
TZOFFSETFROM:+0000
TZOFFSETTO:+0100
TZNAME:BST
DTSTART:20240331T010000
END:DAYLIGHT
BEGIN:STANDARD
TZOFFSETFROM:+0100
TZOFFSETTO:+0000
TZNAME:GMT
DTSTART:20241027T010000
END:STANDARD
BEGIN:DAYLIGHT
TZOFFSETFROM:+0000
TZOFFSETTO:+0100
TZNAME:BST
DTSTART:20250330T010000
END:DAYLIGHT
BEGIN:STANDARD
TZOFFSETFROM:+0100
TZOFFSETTO:+0000
TZNAME:GMT
DTSTART:20251026T010000
END:STANDARD
END:VTIMEZONE
BEGIN:VEVENT
DTSTART;TZID=Europe/London:20241205T190000
DTEND;TZID=Europe/London:20241205T210000
DTSTAMP:20260423T171145
CREATED:20231220T085116Z
LAST-MODIFIED:20241214T083841Z
UID:233-1733425200-1733432400@tithebarn.uk
SUMMARY:RA Nov-24: Residents Association Meeting
DESCRIPTION:Agenda 5th December 2024   (rescheduled from 21st Nov) \n  \n\nThis will be a normal residents association meeting\, with the AGM moved to 23rd Jan 2025 in order to enable leaflet distribution with the Christmas Broadsheet\, in order to attract nominations for all positions in the Residents Association.  \n\n  \n  \n\nApologies\n\nJess Pinn\, Katie Bennett\, Jayne Hill\, \n\n\n\n  \n\nPresent\n\nFran Aggleton (Chair)\, Marc Coton (Sec)\, Qian Zeng (Treasurer)\, John Rowe\, Alison & Colin Deare\, Janet & Colin Stamp\, Craig & Nancy Halsey\, Debra\, Paula (8pm onwards)\n\n\n\n  \n\nApproval of Minutes of Previous Meeting\n\nApproved.  Circulated previously.\n\n\n\n  \n\nResignations and New Committee\n\nSeveral resignations due to personal reasons.  Chair outlined what is required.  All nominations need to be with the Secretary by 20th January 2025.  The roles are Chair\, Vice Chair\, Secretary\, Treasurer\, plus up to 6 committee members.\n\n\n\n  \n\nWelcome from the Chair and review of the first year\n\nBusy year\, lots of progress has been made.  Unified in common purpose and getting the conversations going with lots of stakeholders including the development companies /builders\, Broadclyst Parish Council\, East Devon District Council.\nSuccesses include the provision of the Little Library and Noticeboard (by BPC) and the launch by us with the Story Telling event; the Advent Windows trail; the Fun Day\, Dog Show\, BioBlitz.\nOur guest speakers at TRA meetings have included Angie (BPC)\, Jake (BPC)\, PCSO Sims\, Paul Osbourne (EDDC).  \n\n\n\n  \n\nTesco – due to open by Christmas.  The café space has been allocated to a local café business although name isn’t currently known.\n\n  \n\nUpdate from the Treasurer\n\n£500 left.   Donation has been offered for costs of leaflet printing.  \nAction:  MC to contact Alwyn Joy to arrange for printing and delivery of leaflets to accompany delivery of Broadsheets asap.  \nMC confirmed that tithebarn.uk/join and the QR code work and are set up already.\n\n\n\n  \n\nFran outlined the costs so far.  Insurance costs\, public liability\, Leaflet printing. Website.    BPC happy to permit spending after the initial window of allocation.\nSpent £180.  Money still allocated for feather banners. But still need to be ordered.  This will happen after new committee appointed.  \nMC confirmed that membership data remains compliant with data stored only on MS365 account and is password protected.  \n\n  \n\nPlans for the Sports Pitches and Pavilions – Cllr P Fernley\n\nHas provision for a bar\, four changing rooms\, big indoor space.  Building is to be located next to MUGA and sports pitches.  The planning application is in and there have already been lots of comments from statutory bodies\, but also some concerns raised such as a lack of lighting program\, CCTV.   \nAction:  ALL – Paula urged everyone to look and share opinions on the official EDDC planning site.\n\n\n\n  \n\nBroadclyst Parish Council updates\n\nThe Community Consultation report is now out. Full report available from BPC website and summarised at https://tithebarn.uk/parish-residents-survey-results/\nThe YMCA consultation report should be out by now.  Action: MC to chase BPC.\nNo updates from the parish council regarding the community space (above Tesco).\n\n\n\n  \n\nUpdate on Play Park – Cllr P Fernley\n\nAshworth Place play park.  BPC are getting quotes for play park design.\n\n\n\n  \n\nUpdate from EDDC Infrastructure Group – Cllr P Fernley\n\nBarratt have merged with Redrow.  Comms with Barratt is difficult.  No information on who to contract.  The Country park estate remains with work to do.  Enforcement notices will be served in new year if actions are still not corrected.\n\n\nAction:  MC to request info on noticeboard at Community Centre location from BPC Chair.\n\n\n\n  \n\nAdvent Windows\nAdvent windows are now live.  Please enjoy by joining the Facebook group at: https://www.facebook.com/groups/7251423424868512 or by visiting the website page at https://tithebarn.uk/christmas-advent-windows/\n\n  \n\nAny Other Business\n\nQuestions about gardens\, front and general maintenance. \nJohn Rowe – Church of England\, Parish of Pinhoe is interested in having a coffee van as part of their outreach work.  \n\nAction: MC to put in touch with Louis Burgess\, tuk-tuk coffee provider at Fun Day.\nTown square parking.   Meant to have hot food outlets permitted.  Action:  MC to enquire as to status and process.\nFlippy Chippy currently has permissions to trade.  Suggestion to contact this existing vendor for advice.  \nPaula Fernley recommended contacting EDDC for advice.\n\n\nYMCA:  event posters are up.    19th December\, 3:30pm to 5pm\, by the park in the Redhayes Green corridor.\nAction:  MC to share feedback on poster to YMCA to BPC and YMCA.
URL:https://tithebarn.uk/event/ra-nov-24-residents-association-meeting/
LOCATION:Black Horse Public House\, Devon\, ex1\, United Kingdom
CATEGORIES:TRA Committee
ORGANIZER;CN="RA Committee":MAILTO:ra@tithebarn.uk
END:VEVENT
END:VCALENDAR