BEGIN:VCALENDAR
VERSION:2.0
PRODID:-//Tithebarn Residents Association - ECPv6.15.20//NONSGML v1.0//EN
CALSCALE:GREGORIAN
METHOD:PUBLISH
X-WR-CALNAME:Tithebarn Residents Association
X-ORIGINAL-URL:https://tithebarn.uk
X-WR-CALDESC:Events for Tithebarn Residents Association
REFRESH-INTERVAL;VALUE=DURATION:PT1H
X-Robots-Tag:noindex
X-PUBLISHED-TTL:PT1H
BEGIN:VTIMEZONE
TZID:Europe/London
BEGIN:DAYLIGHT
TZOFFSETFROM:+0000
TZOFFSETTO:+0100
TZNAME:BST
DTSTART:20230326T010000
END:DAYLIGHT
BEGIN:STANDARD
TZOFFSETFROM:+0100
TZOFFSETTO:+0000
TZNAME:GMT
DTSTART:20231029T010000
END:STANDARD
BEGIN:DAYLIGHT
TZOFFSETFROM:+0000
TZOFFSETTO:+0100
TZNAME:BST
DTSTART:20240331T010000
END:DAYLIGHT
BEGIN:STANDARD
TZOFFSETFROM:+0100
TZOFFSETTO:+0000
TZNAME:GMT
DTSTART:20241027T010000
END:STANDARD
BEGIN:DAYLIGHT
TZOFFSETFROM:+0000
TZOFFSETTO:+0100
TZNAME:BST
DTSTART:20250330T010000
END:DAYLIGHT
BEGIN:STANDARD
TZOFFSETFROM:+0100
TZOFFSETTO:+0000
TZNAME:GMT
DTSTART:20251026T010000
END:STANDARD
END:VTIMEZONE
BEGIN:VEVENT
DTSTART;TZID=Europe/London:20240523T190000
DTEND;TZID=Europe/London:20240523T210000
DTSTAMP:20260424T041853
CREATED:20231220T084304Z
LAST-MODIFIED:20240921T113327Z
UID:223-1716490800-1716498000@tithebarn.uk
SUMMARY:RA Meeting May 2024
DESCRIPTION:CANCELLED AT SHORT NOTICE DUE TO VENUE CLOSING!  SEE NEXT MEETING FOR AGENDA AND MINUTES. \nTithebarn Residents Association \nAgenda – Meeting Thursday 23rd May 2024 \nBlackhorse Function Room 7pm \n  \n\nWelcome from the Chair and apologies\n\n  \n\nQ&A with Jake Bonetta – Broadclyst Parish Council Community Connector. Jake joined the Parish Council earlier in the year and has been working on a set of projects including a community garden\, Little Library and setting up a YMCA provision for the area. He will give up an update on progress.\nMatters Arising and Approval Minutes of Previous Meeting\nTreasurer’s Report (FMA on behalf of CQD)\nUpdate from the Vice Chair (FMA on behalf of ML)\nPick up outstanding topics from January’s meeting and plan for the next meetings topics (MC and FMA) – see table below\nUpdate on Adoption discussions and next steps (FMA on behalf of PF)\nAny other business\n\n  \nItems Raised in January’s meeting for discussion \n Follow up items from Previous Meeting and Planning Ahead \n(Must\, Could\, Should\, Won’t analysis & Agile) \n  \n\n\n\nTask\nVotes\nNotes\nOwner\nMCSW\n\n\n\n\n\n\n\n\n\nQuick Wins \n\n\n\n\n\n\nWalking Group\n7\nSetup? Marshalls? DP\n\n\n\n\nLittle Library\n6\nCommunity Connector\nRV / JB\n\n\n\nNoticeboards\n6\nCommunity Connector\nJB\n\n\n\nWelcome to TB signs\n10\nCommunity Connector BCPC\nFMA/JB\n\n\n\nCommunity Flowers\n10\nCommunity Connector\n\n\n\n\nWalking bus\n1\n\n\n\n\n\nStreet Food Vendors\n7\nCommunity Connector\n\n\n\n\nDoggie Droppings\n4\nBCPC update / competition\n\n\n\n\nExtra Recycling\n\n\n\n\n\n\nExtra Parking\n5\n\n\n\n\n\nHedgehog Habitats\n\n\n\n\n\n\nEngagement Activities\n\n\n\n\n\n\nCommunity Cafe\n\n\n\n\n\n\nTree Plastic Removal\n\n\nPF\n\n\n\n\n\n\n\n\n\n\nLonger Term\n\n\n\n\n\n\nUsing green spaces for community activities\n5\n\n\n\n\n\nCommunity Resilience Planning\n7\n\n\n\n\n\nPost Office\n3\n\n\n\n\n\nLandmark / Public Art\n4\n\n\n\n\n\nNature Education Group / Foraging / Identifying plants\, insects\, etc\n\n\n\n\n\n\nCommunity Garden\n\n\n\n\n\n\nAllotments\n\n\n\n\n\n\nSite adoption\n\n\n\n\n\n\nStreet Lighting\n\nLangerton Lane / TB Way / Others\n\n\n\n\nDeveloper Liaison\n\nMatt\, Paula\, Craig\, Katie\n\n\n\n\nDrainage\n\n\n\n\n\n\n\n\n\n\n\n\n\nCommunity Events / Fundraising\n\n\n\n\n\n\n\n\n\n\n\n\n\nBingo Night\n\n\nDP\n\n\n\nLitter Picks\n4\n\n\n\n\n\nTithebarn Way Tidy Up\n\nChapter 8 Training\nML / DP\n\n\n\nScarecrow Competition\n\n\n\n\n\n\nChristmas Displays\n6\n\nKB\n\n\n\nRaffle\n6\n\n\n\n\n\nLottery\n\n\n\n\n\n\nWildlife Photography Competition\n\n\n\n\n\n\nExercise Groups\n\nScience Park\n\n\n\n\n\n\n\n\n\n\n\n\n\n\n\n\n\n\n\n\n\n\n\n\n\n\n\n\n\n\n\n\n\n 
URL:https://tithebarn.uk/event/ra-meeting-2024-03/
LOCATION:Black Horse Public House\, Devon\, ex1\, United Kingdom
CATEGORIES:TRA Committee
ORGANIZER;CN="RA Committee":MAILTO:ra@tithebarn.uk
END:VEVENT
END:VCALENDAR