BEGIN:VCALENDAR
VERSION:2.0
PRODID:-//Tithebarn Residents Association - ECPv6.15.20//NONSGML v1.0//EN
CALSCALE:GREGORIAN
METHOD:PUBLISH
X-ORIGINAL-URL:https://tithebarn.uk
X-WR-CALDESC:Events for Tithebarn Residents Association
REFRESH-INTERVAL;VALUE=DURATION:PT1H
X-Robots-Tag:noindex
X-PUBLISHED-TTL:PT1H
BEGIN:VTIMEZONE
TZID:Europe/London
BEGIN:DAYLIGHT
TZOFFSETFROM:+0000
TZOFFSETTO:+0100
TZNAME:BST
DTSTART:20230326T010000
END:DAYLIGHT
BEGIN:STANDARD
TZOFFSETFROM:+0100
TZOFFSETTO:+0000
TZNAME:GMT
DTSTART:20231029T010000
END:STANDARD
BEGIN:DAYLIGHT
TZOFFSETFROM:+0000
TZOFFSETTO:+0100
TZNAME:BST
DTSTART:20240331T010000
END:DAYLIGHT
BEGIN:STANDARD
TZOFFSETFROM:+0100
TZOFFSETTO:+0000
TZNAME:GMT
DTSTART:20241027T010000
END:STANDARD
BEGIN:DAYLIGHT
TZOFFSETFROM:+0000
TZOFFSETTO:+0100
TZNAME:BST
DTSTART:20250330T010000
END:DAYLIGHT
BEGIN:STANDARD
TZOFFSETFROM:+0100
TZOFFSETTO:+0000
TZNAME:GMT
DTSTART:20251026T010000
END:STANDARD
END:VTIMEZONE
BEGIN:VEVENT
DTSTART;TZID=Europe/London:20240123T190000
DTEND;TZID=Europe/London:20240123T210000
DTSTAMP:20260424T120236
CREATED:20231220T083230Z
LAST-MODIFIED:20240821T080147Z
UID:217-1706036400-1706043600@tithebarn.uk
SUMMARY:RA Meeting Jan 2024
DESCRIPTION:Draft Minutes to be approved at the next TRA Meeting \nMeeting Facilitatior: Fran Aggleton \nNotes: Jess Pinn \nApologies: Henry Gent\, Paula Fernley\, Marc Coton\, Liam Barrington\, Katie Bennett\, Jane Arclay\, Emma\, Ross  \nPresent:   \n\nFran Aggleton- Chair\nCici Qian Zeng- Treasurer\nMatthew Lenhart- Vice Chair\nJess Pinn-Committee\nDebora Perry- Committee\nStephen Perry\nCraig Halsey\nJohn Rowe\n\n  \nAnnouncements:  \n\nRhiannon Vickers has stepped down from the committee but will continue to be involved in working in the community and residents association projects (ie. the resilience group)\nRhiannon Vickers and Henry Gent both spoke to Community Police Officer Johnaton Simm\, based in Ottery St Mary\, about issues around cars parking on pavements around the estate. He will be attending the next RA meeting on the 20th March so please bring questions. AP\nTesco Express confirmed shop tenants\, est end of summer 2025\n\n  \n——————– \n  \nMatt: What has worked in other communities with the parking on pavements issue? Under the road traffic act is it illegal? \nFran: Public engagement on the parking matter from the RA is not popular\, would rather defer to police to handle it. \nQ: Any update on getting road signage and markings around the estate? \nJohn: Can we put pressure on the developers to get the roads to a standard to be adopted by the council?  \nMatt: There seems to be no end in sight. The developers have a legal liability to keep the roads up to standard however the method of laying road has complex steps that can take up to 5 or 6 years to complete.  \nGive way signs should start to appear soon however white lines may never be painted due to roads being to small to qualify.AP \nJohn: If it’s a road safety issue can DCC take adoption of the roads before they are finished? AP \nStreet lights not always working overnight on Hutchings Drive\, Channings Drive and Tithebarn way. Tithebarn way has been adopted. AP \nIssues with street lights not working\, being on all night or causing a nuisance shining into homes a widespread issue over the estate\, DCC policy is to have them off from 12am-5am. \nStone Barton Road and Hutchings Drive will eventually be connected and included in the bus route so street lights there may be on all night/different times. \nPeople currently parking in unmarked bus stops-may become an issue once the bus route is established. \n———————- \nTreasurer update \nCici:Bank account is set up so we can apply for grants from the council etc. \nDrafted financial policy; when our financial year begins and ends\, inspection times\,AGM\, How do we want to spend our money\, How many people and who should have access to the account\, expense forms etc. Accountant friend is currently reviewing it. It will eventually be published on the website. \nFran:Funding applications are for specific projects\, we need to identify which projects the community and RA wants in order to apply for that funding. \nWe can apply to the Parish Council for things like setup costs\, public liability insurance\, website\, leaflet drops etc. \n———————- \nResilience Group update \nJess: We are working on collating a list of services that cover Broadclyst Parish that \nTithebarn residents can also access eg. Foodbank\, Support groups etc. To be published/included in Broadsheet once completed. \n———————— \nArticle/insert in the Broadsheet about the residents association. AP \n\nHow many members\nDates for upcoming meetings\nLink to website\nIssues we are addressing in the community\n\n———————- \nBrainstorming ideas\nShort term/Quick wins \n\nWalking group/Running group\, evening and daytime- Debora to investigate if we need Marshals etc.AP 7 votes\nLibrary- Rhiannon setting up a little library\, on her property? Can ask Bookcycle (local charity) for donations. 6 votes\nNotice Boards for advertising upcoming events\, local info etc.- BCPC has a board for us already\, need to chase it up AP 6 Votes\nWelcome to Tithebarn sign/pillars/flower bed-What do we call ourselves? Tithebarn Green/Tithebarn Village AP 10 Votes\nWalking bus to school- Safeguarding? School in walking distance? 1 Vote\nInvite more street food vendors to Tithebarn- There will be a dedicated pitch outside the shop for this. Market for it in the meantime? Flippy Chippy already visits. 7 Votes\nPost box- one in Clyst Honiton and one on Tithebarn way-more?\nMore dog poo and litter bins- BCPC have purchased dog poo bins\, where and when they will be placed is not known AP 4 Votes\nRecycling area-extra recycling facilities for larger families \nSafer Parking (overflow parking somewhere?) 5 Votes\nGrowing the RA active membership with engagement activities (see community events) Leaflet drop?\nHedgehog habitat\nCommunity Cafe\nTree tube removal\n\nLonger Term/Bigger asks \n\nSchool space used for social/fundraising events-Public Liability ins. 5 Votes\nGrow the Community Resilience Activities (not quite sure what this means) 7 Votes\nPost office. 3Votes\nLandmark eg. Public Art. 4 Votes\nNature education group/Foraging/Identifying plants and Trees etc.\nCommunity Garden and allotments. 5 votes\nManagement company adoption issues-make sure its someone who will hold the areas of Tithebarn to a good standard and deliver what is paid for by residents.\nHold developers accountable for issues.\n\nCommunity/Fundraising events \n“Katie did a fab job with the advent windows” \n“Creating a sense of Belonging” Jane A \n\nBingo nights- Black Horse? (also poss fundraising event) Debora interested in organising? 6 votes\nCommunity litter pick. 4 Votes\nScarecrows for bonfire night\, display/competition? 6votes\nChristmas display (like Katies?) 6 Votes\nRaffle-sponsored? 6 Votes\nPhotography contest\nExercise groups\n\n——————————————- \nThe school- should we be addressing the fact that the developers are still telling prospective house buyers that there will be a school? \nDCC managed path and boardwalk Mosshayne lane out towards Cranbrook \nCheck out planning applications on EDDC website? \nBin collections changed from 7am to 6am because of heat in the summer but no need for it to be an all year round thing as the noise disturbs the residents. Matt has spoken to Paula on this issue. \n  \nAction Points: \n\nInclude info about Community Police officer attending the next RA meeting in the facebook announcement for the next meeting so people are prepared with questions or have reason to come along. Fran/Marc?\nMap on Broadclyst Parish website showing area of Tithebarn within the parish boundaries Marc\nWrite the article/insert for the upcoming Broadsheet. Deadline?\nChase up notice board with BCPC Fran/Marc?\nInvestigate if we need marshals for walking/running group- Debora\nAsk BCPC about the welcome to Tithebarn sign\nAsk BCPC about Dog poo bins\nBuses-collate info on bus routes and stops that service Tithebarn\, for the website/distribution?\n\n_________________ \nAgenda\nOn behalf of the Residents Association committee\, we can confirm that the Black Horse Inn (///sprinter.washing.barman) have kindly lent us the room again for free and we will be meeting at 7pm on Tuesday 23rd January\, finishing by 9pm. We can wholly recommend the food so please show support to the venue by turning up early and enjoying their cuisine. \nThe meeting is open to anyone who resides in Tithebarn as defined by our constitution. This area is in the parish of Broadclyst\, in East Devon and east of the M5. \nIf you plan to attend and have not yet shared your address with the committee at a previous meeting then please message the Secretary Marc Coton on WhatsApp or text on 07581 179890 with your details. This will streamline the process of collecting details of attendees on the night.  Please refer to our Privacy Policy for how we manage your data. \nAgenda: \n\n2024/01/01 – Attendees list – (10 mins max)\n2024/01/02 – Agree minutes of previous meeting – circulated beforehand online\, matters arising – (10 mins)\n2024/01/03 – Treasurer update about bank account – (10 mins)\n2024/01/04 – Community Resilience update – (10 mins)\n2024/01/05 Chair introduces format for brainstorming (5 mins)\n\n– 3 Idea cards are distributed and filled in (10 mins)\n– Tabletops/whiteboard used to group ideas (10 mins)\n– rated for effort versus benefit\, quick wins and big projects identified (10 mins)\n– Chair/Vice Chair summaries of popular topics (15 mins)\n\n\n2024/01/06 – Any Other Business  (10 mins)\n2024/01/07 – The next meeting will be Wednesday\, 20 March @ 7:00 PM.  All dates of future meetings are shared on the website at https://tithebarn.uk/events/\, in The Broadsheet (the newsletter of Broadclyst Parish Council) and social media.\nClose at 9pm latest.
URL:https://tithebarn.uk/event/ra-meeting-2024-01/
LOCATION:Black Horse Public House\, Devon\, ex1\, United Kingdom
CATEGORIES:TRA Committee
ORGANIZER;CN="RA Committee":MAILTO:ra@tithebarn.uk
END:VEVENT
END:VCALENDAR