BEGIN:VCALENDAR
VERSION:2.0
PRODID:-//Tithebarn Residents Association - ECPv6.15.20//NONSGML v1.0//EN
CALSCALE:GREGORIAN
METHOD:PUBLISH
X-ORIGINAL-URL:https://tithebarn.uk
X-WR-CALDESC:Events for Tithebarn Residents Association
REFRESH-INTERVAL;VALUE=DURATION:PT1H
X-Robots-Tag:noindex
X-PUBLISHED-TTL:PT1H
BEGIN:VTIMEZONE
TZID:Europe/London
BEGIN:DAYLIGHT
TZOFFSETFROM:+0000
TZOFFSETTO:+0100
TZNAME:BST
DTSTART:20230326T010000
END:DAYLIGHT
BEGIN:STANDARD
TZOFFSETFROM:+0100
TZOFFSETTO:+0000
TZNAME:GMT
DTSTART:20231029T010000
END:STANDARD
BEGIN:DAYLIGHT
TZOFFSETFROM:+0000
TZOFFSETTO:+0100
TZNAME:BST
DTSTART:20240331T010000
END:DAYLIGHT
BEGIN:STANDARD
TZOFFSETFROM:+0100
TZOFFSETTO:+0000
TZNAME:GMT
DTSTART:20241027T010000
END:STANDARD
BEGIN:DAYLIGHT
TZOFFSETFROM:+0000
TZOFFSETTO:+0100
TZNAME:BST
DTSTART:20250330T010000
END:DAYLIGHT
BEGIN:STANDARD
TZOFFSETFROM:+0100
TZOFFSETTO:+0000
TZNAME:GMT
DTSTART:20251026T010000
END:STANDARD
END:VTIMEZONE
BEGIN:VEVENT
DTSTART;TZID=Europe/London:20240704T070000
DTEND;TZID=Europe/London:20240704T220000
DTSTAMP:20260424T012301
CREATED:20240610T094814Z
LAST-MODIFIED:20240610T100738Z
UID:477-1720076400-1720130400@tithebarn.uk
SUMMARY:General Election!
DESCRIPTION:Just in case you’ve been underground for the last few weeks\, it’s great news that a general election has now been called for 4th July.  Tithebarn residents will be able to vote for the Member of Parliament for our newly formed constituency Exmouth and Exeter East.  Our previous MP\, Simon Jupp\, is not standing here so whoever we get they will be a fresh face.  There are 8 Prospective Parliamentary Candidates (PCCs) and these can be found at: UK Parliamentary general election candidates in EX1 3XE (whocanivotefor.co.uk) \n  \n 
URL:https://tithebarn.uk/event/general-election-2024/
LOCATION:Science Park Polling Station\, Devon\, United Kingdom
ATTACH;FMTTYPE=image/png:https://tithebarn.uk/wp-content/uploads/2024/06/ConstituencyChanges.png
END:VEVENT
END:VCALENDAR