BEGIN:VCALENDAR
VERSION:2.0
PRODID:-//Tithebarn Residents Association - ECPv6.15.20//NONSGML v1.0//EN
CALSCALE:GREGORIAN
METHOD:PUBLISH
X-WR-CALNAME:Tithebarn Residents Association
X-ORIGINAL-URL:https://tithebarn.uk
X-WR-CALDESC:Events for Tithebarn Residents Association
REFRESH-INTERVAL;VALUE=DURATION:PT1H
X-Robots-Tag:noindex
X-PUBLISHED-TTL:PT1H
BEGIN:VTIMEZONE
TZID:Europe/London
BEGIN:DAYLIGHT
TZOFFSETFROM:+0000
TZOFFSETTO:+0100
TZNAME:BST
DTSTART:20230326T010000
END:DAYLIGHT
BEGIN:STANDARD
TZOFFSETFROM:+0100
TZOFFSETTO:+0000
TZNAME:GMT
DTSTART:20231029T010000
END:STANDARD
BEGIN:DAYLIGHT
TZOFFSETFROM:+0000
TZOFFSETTO:+0100
TZNAME:BST
DTSTART:20240331T010000
END:DAYLIGHT
BEGIN:STANDARD
TZOFFSETFROM:+0100
TZOFFSETTO:+0000
TZNAME:GMT
DTSTART:20241027T010000
END:STANDARD
BEGIN:DAYLIGHT
TZOFFSETFROM:+0000
TZOFFSETTO:+0100
TZNAME:BST
DTSTART:20250330T010000
END:DAYLIGHT
BEGIN:STANDARD
TZOFFSETFROM:+0100
TZOFFSETTO:+0000
TZNAME:GMT
DTSTART:20251026T010000
END:STANDARD
END:VTIMEZONE
BEGIN:VEVENT
DTSTART;TZID=Europe/London:20240316T100000
DTEND;TZID=Europe/London:20240316T120000
DTSTAMP:20260424T074659
CREATED:20240305T081924Z
LAST-MODIFIED:20240305T081924Z
UID:334-1710583200-1710590400@tithebarn.uk
SUMMARY:Tithebarn Big Spring Clean
DESCRIPTION:
URL:https://tithebarn.uk/event/tithebarn-big-spring-clean/
LOCATION:Minerva Country Park\, Tithebarn\, Exeter\, Devon\, EX1 3XN\, United Kingdom
CATEGORIES:Broadclyst Environment Group
ATTACH;FMTTYPE=image/jpeg:https://tithebarn.uk/wp-content/uploads/2024/03/BEG-LitterPick-2024-03.jpg
END:VEVENT
END:VCALENDAR