BEGIN:VCALENDAR
VERSION:2.0
PRODID:-//Tithebarn Residents Association - ECPv6.15.20//NONSGML v1.0//EN
CALSCALE:GREGORIAN
METHOD:PUBLISH
X-WR-CALNAME:Tithebarn Residents Association
X-ORIGINAL-URL:https://tithebarn.uk
X-WR-CALDESC:Events for Tithebarn Residents Association
REFRESH-INTERVAL;VALUE=DURATION:PT1H
X-Robots-Tag:noindex
X-PUBLISHED-TTL:PT1H
BEGIN:VTIMEZONE
TZID:Europe/London
BEGIN:DAYLIGHT
TZOFFSETFROM:+0000
TZOFFSETTO:+0100
TZNAME:BST
DTSTART:20240331T010000
END:DAYLIGHT
BEGIN:STANDARD
TZOFFSETFROM:+0100
TZOFFSETTO:+0000
TZNAME:GMT
DTSTART:20241027T010000
END:STANDARD
BEGIN:DAYLIGHT
TZOFFSETFROM:+0000
TZOFFSETTO:+0100
TZNAME:BST
DTSTART:20250330T010000
END:DAYLIGHT
BEGIN:STANDARD
TZOFFSETFROM:+0100
TZOFFSETTO:+0000
TZNAME:GMT
DTSTART:20251026T010000
END:STANDARD
BEGIN:DAYLIGHT
TZOFFSETFROM:+0000
TZOFFSETTO:+0100
TZNAME:BST
DTSTART:20260329T010000
END:DAYLIGHT
BEGIN:STANDARD
TZOFFSETFROM:+0100
TZOFFSETTO:+0000
TZNAME:GMT
DTSTART:20261025T010000
END:STANDARD
END:VTIMEZONE
BEGIN:VEVENT
DTSTART;TZID=Europe/London:20251115T100000
DTEND;TZID=Europe/London:20251115T113000
DTSTAMP:20260422T191946
CREATED:20251109T133704Z
LAST-MODIFIED:20251109T133711Z
UID:1121-1763200800-1763206200@tithebarn.uk
SUMMARY:Meet Your Councillor
DESCRIPTION:Come along for an informal chat!   Share your thoughts\, ideas\, local concerns or just say hello.  No speeches\, no agenda\, just a chance to talk about what matters to you and your community. \n 
URL:https://tithebarn.uk/event/meet-your-councillor/
LOCATION:Strawberry Fields Cafe\, Gereint Way\, Tithebarn\, Exeter\, EX1 3RS\, Gereient Way\, Tithebarn\, Exeter\, Devon\, EX1 3RS\, United Kingdom
CATEGORIES:TRA Committee
ATTACH;FMTTYPE=image/jpeg:https://tithebarn.uk/wp-content/uploads/2025/11/Meet-your-councillor-15Nov2025.jpg
ORGANIZER;CN="RA Committee":MAILTO:ra@tithebarn.uk
END:VEVENT
END:VCALENDAR